BEGIN:VCALENDAR
VERSION:2.0
PRODID:-//BB Esthetics - ECPv6.15.20//NONSGML v1.0//EN
CALSCALE:GREGORIAN
METHOD:PUBLISH
X-WR-CALNAME:BB Esthetics
X-ORIGINAL-URL:https://bbesthetics.fi
X-WR-CALDESC:Tapahtumat BB Esthetics
REFRESH-INTERVAL;VALUE=DURATION:PT1H
X-Robots-Tag:noindex
X-PUBLISHED-TTL:PT1H
BEGIN:VTIMEZONE
TZID:Europe/Helsinki
BEGIN:DAYLIGHT
TZOFFSETFROM:+0200
TZOFFSETTO:+0300
TZNAME:EEST
DTSTART:20250330T010000
END:DAYLIGHT
BEGIN:STANDARD
TZOFFSETFROM:+0300
TZOFFSETTO:+0200
TZNAME:EET
DTSTART:20251026T010000
END:STANDARD
BEGIN:DAYLIGHT
TZOFFSETFROM:+0200
TZOFFSETTO:+0300
TZNAME:EEST
DTSTART:20260329T010000
END:DAYLIGHT
BEGIN:STANDARD
TZOFFSETFROM:+0300
TZOFFSETTO:+0200
TZNAME:EET
DTSTART:20261025T010000
END:STANDARD
BEGIN:DAYLIGHT
TZOFFSETFROM:+0200
TZOFFSETTO:+0300
TZNAME:EEST
DTSTART:20270328T010000
END:DAYLIGHT
BEGIN:STANDARD
TZOFFSETFROM:+0300
TZOFFSETTO:+0200
TZNAME:EET
DTSTART:20271031T010000
END:STANDARD
END:VTIMEZONE
BEGIN:VEVENT
DTSTART;TZID=Europe/Helsinki:20260322T100000
DTEND;TZID=Europe/Helsinki:20260322T150000
DTSTAMP:20260422T143249
CREATED:20260203T114134Z
LAST-MODIFIED:20260203T114135Z
UID:3410-1774173600-1774191600@bbesthetics.fi
SUMMARY:Botox peruskoulutus
DESCRIPTION:Botox peruskoulutus  \n\n\n\nPäivän aikana päästään oppimaan botuliinilla toteutettavia toimenpiteitä! Opit hoitamaan monia suosituimpia botuliinihoitoja mm. koko otsan botuliinihoito\, Sibelius juonteen hoito\, silmäkulmien juonteet ja kulmien kohotus. \n\n\n\nKouluttajana toimii BB Esthetics \n\n\n\nKoulutuksien hintaan sisältyy päivän aikana käytettävät tuotteet\, mallit sekä ruokailut. Koulutuksen päätteeksi saat virallisen todistuksen sekä jatkuvan tuen myös koulutuksen jälkeen. \n\n\n\nValviran käsityksen mukaan lääkemääräyksen potilaalle antanut lääkäri voisi siirtää botuliinitoksiinin pistämisen myös muulle laillistetulle terveydenhuollon ammattihenkilölle\, jolla on asianmukaisen koulutuksen lisäksi riittävä osaaminen botuliinitoksiinin pistämiseen. Asianmukaisena koulutuksena voidaan pitää sellaista laillistetun terveydenhuollon ammattihenkilön koulutusta\, johon on sisältynyt riittävästi pistoskoulutusta: tällaisia ovat sairaanhoitajat\, terveydenhoitajat sekä kätilöt. Lisäksi mainituilla botuliinitoksiinihoitoja antavilla laillistetuilla terveydenhuollon ammattihenkilöillä tulee olla suoritettuna nimenomaan botuliinitoksiinin pistämistä varten annettu koulutus. Laillistetun lääkärin on varmistuttava botuliinitoksiinihoitoja antavien sairaanhoitajien\, terveydenhoitajien ja kätilöiden osaamisesta ja myönnettävä kirjallinen lupa näiden pistosten antamiseen. (Botuliinihoidot – Valvira) \n\n\n\n Päivä aloitetaan klo 10.00 \n\n\n\nRyhmäkoulutus 999 € + alv \n\n\n\nHalutessasi voit maksaa koulutukset myös Klarnalla. \n\n\n\nPeruutukset tulee tehdä vähintään 7 päivää ennen koulutuksen alkamista. Peruutusehdot löytyvät täältä.
URL:https://bbesthetics.fi/koulutukset/botox-peruskoulutus/
END:VEVENT
BEGIN:VEVENT
DTSTART;TZID=Europe/Helsinki:20260322T150000
DTEND;TZID=Europe/Helsinki:20260322T180000
DTSTAMP:20260422T143249
CREATED:20260203T114250Z
LAST-MODIFIED:20260203T114402Z
UID:3412-1774191600-1774202400@bbesthetics.fi
SUMMARY:Lääkinnällinen Botox koulutus
DESCRIPTION:Lääkinnällinen botox koulutus  \n\n\n\nPäivän aikana päästään oppimaan botuliinilla toteutettavia toimenpiteitä. Koulutuksen pääpainona lääkinnälliset botuliinihoidot (bruksisimin hoito\, päänsärky\, liikahikoilu\, epäkkäiden hoito). \n\n\n\nKouluttajana toimii BB Esthetics \n\n\n\nKoulutuksien hintaan sisältyy päivän aikana käytettävät tuotteet\, mallit sekä ruokailut. Koulutuksen päätteeksi saat virallisen todistuksen sekä jatkuvan tuen myös koulutuksen jälkeen. \n\n\n\nValviran käsityksen mukaan lääkemääräyksen potilaalle antanut lääkäri voisi siirtää botuliinitoksiinin pistämisen myös muulle laillistetulle terveydenhuollon ammattihenkilölle\, jolla on asianmukaisen koulutuksen lisäksi riittävä osaaminen botuliinitoksiinin pistämiseen. Asianmukaisena koulutuksena voidaan pitää sellaista laillistetun terveydenhuollon ammattihenkilön koulutusta\, johon on sisältynyt riittävästi pistoskoulutusta: tällaisia ovat sairaanhoitajat\, terveydenhoitajat sekä kätilöt. Lisäksi mainituilla botuliinitoksiinihoitoja antavilla laillistetuilla terveydenhuollon ammattihenkilöillä tulee olla suoritettuna nimenomaan botuliinitoksiinin pistämistä varten annettu koulutus. Laillistetun lääkärin on varmistuttava botuliinitoksiinihoitoja antavien sairaanhoitajien\, terveydenhoitajien ja kätilöiden osaamisesta ja myönnettävä kirjallinen lupa näiden pistosten antamiseen. (Botuliinihoidot – Valvira) \n\n\n\nPäivä aloitetaan klo 15.00 \n\n\n\nRyhmäkoulutus 999 € + alv \n\n\n\nHalutessasi voit maksaa koulutukset myös Klarnalla. \n\n\n\nPeruutukset tulee tehdä vähintään 7 päivää ennen koulutuksen alkamista. Peruutusehdot löytyvät täältä.
URL:https://bbesthetics.fi/koulutukset/laakinnallinen-botox-koulutus/
END:VEVENT
END:VCALENDAR